Package: unifiedWMWqPCR Version: 1.42.0 Command: F:\biocbuild\bbs-3.20-bioc\R\bin\R.exe CMD check --no-multiarch --install=check:unifiedWMWqPCR.install-out.txt --library=F:\biocbuild\bbs-3.20-bioc\R\library --no-vignettes --timings unifiedWMWqPCR_1.42.0.tar.gz StartedAt: 2025-02-04 07:21:54 -0500 (Tue, 04 Feb 2025) EndedAt: 2025-02-04 07:22:47 -0500 (Tue, 04 Feb 2025) EllapsedTime: 52.8 seconds RetCode: 0 Status: OK CheckDir: unifiedWMWqPCR.Rcheck Warnings: 0