Package: universalmotif Version: 1.24.2 Command: /Library/Frameworks/R.framework/Resources/bin/R CMD check --install=check:universalmotif.install-out.txt --library=/Library/Frameworks/R.framework/Resources/library --no-vignettes --timings universalmotif_1.24.2.tar.gz StartedAt: 2025-02-01 12:53:20 -0500 (Sat, 01 Feb 2025) EndedAt: 2025-02-01 12:56:09 -0500 (Sat, 01 Feb 2025) EllapsedTime: 168.7 seconds RetCode: 0 Status: OK CheckDir: universalmotif.Rcheck Warnings: 0