Package: universalmotif Version: 1.24.2 Command: /home/biocbuild/bbs-3.20-bioc/R/bin/R CMD build --keep-empty-dirs --no-resave-data --md5 universalmotif StartedAt: 2025-02-03 19:44:40 -0500 (Mon, 03 Feb 2025) EndedAt: 2025-02-03 19:48:31 -0500 (Mon, 03 Feb 2025) EllapsedTime: 231.2 seconds RetCode: 0 Status: OK PackageFile: universalmotif_1.24.2.tar.gz PackageFileSize: 3.546 MiB