Package: updateObject Version: 1.10.0 Command: /home/biocbuild/R/R/bin/R CMD build --keep-empty-dirs --no-resave-data updateObject StartedAt: 2024-11-20 04:39:15 -0000 (Wed, 20 Nov 2024) EndedAt: 2024-11-20 04:39:44 -0000 (Wed, 20 Nov 2024) EllapsedTime: 29.0 seconds RetCode: 0 Status: OK PackageFile: updateObject_1.10.0.tar.gz PackageFileSize: 1.313 MiB