Package: updateObject Version: 1.10.0 Command: rm -rf updateObject.buildbin-libdir && mkdir updateObject.buildbin-libdir && /Users/biocbuild/BBS/utils/build-universal.sh updateObject_1.10.0.tar.gz /Library/Frameworks/R.framework/Resources/bin/R updateObject.buildbin-libdir StartedAt: 2025-01-31 13:54:15 -0500 (Fri, 31 Jan 2025) EndedAt: 2025-01-31 13:54:28 -0500 (Fri, 31 Jan 2025) EllapsedTime: 12.2 seconds RetCode: 0 Status: OK PackageFile: updateObject_1.10.0.tgz PackageFileSize: 1.342 MiB