Package: updateObject Version: 1.10.0 Command: /Library/Frameworks/R.framework/Resources/bin/R CMD build --keep-empty-dirs --no-resave-data updateObject StartedAt: 2025-02-03 23:06:24 -0500 (Mon, 03 Feb 2025) EndedAt: 2025-02-03 23:07:09 -0500 (Mon, 03 Feb 2025) EllapsedTime: 45.2 seconds RetCode: 0 Status: OK PackageFile: updateObject_1.10.0.tar.gz PackageFileSize: 1.289 MiB