Package: updateObject Version: 1.10.0 Command: /Library/Frameworks/R.framework/Resources/bin/R CMD INSTALL updateObject StartedAt: 2025-02-10 15:43:40 -0500 (Mon, 10 Feb 2025) EndedAt: 2025-02-10 15:43:54 -0500 (Mon, 10 Feb 2025) EllapsedTime: 13.7 seconds RetCode: 0 Status: OK