Package: updateObject Version: 1.10.0 Command: /home/biocbuild/bbs-3.20-bioc/R/bin/R CMD build --keep-empty-dirs --no-resave-data --md5 updateObject StartedAt: 2025-02-03 19:44:43 -0500 (Mon, 03 Feb 2025) EndedAt: 2025-02-03 19:45:04 -0500 (Mon, 03 Feb 2025) EllapsedTime: 21.0 seconds RetCode: 0 Status: OK PackageFile: updateObject_1.10.0.tar.gz PackageFileSize: 1.29 MiB