Package: updateObject Version: 1.10.0 Command: /home/biocbuild/bbs-3.20-bioc/R/bin/R CMD check --install=check:updateObject.install-out.txt --library=/home/biocbuild/bbs-3.20-bioc/R/site-library --timings updateObject_1.10.0.tar.gz StartedAt: 2025-02-04 03:27:52 -0500 (Tue, 04 Feb 2025) EndedAt: 2025-02-04 03:28:50 -0500 (Tue, 04 Feb 2025) EllapsedTime: 58.1 seconds RetCode: 0 Status: OK CheckDir: updateObject.Rcheck Warnings: 0