Package: updateObject Version: 1.10.0 Command: /home/biocbuild/bbs-3.20-bioc/R/bin/R CMD INSTALL updateObject StartedAt: 2025-02-03 15:28:41 -0500 (Mon, 03 Feb 2025) EndedAt: 2025-02-03 15:28:46 -0500 (Mon, 03 Feb 2025) EllapsedTime: 4.9 seconds RetCode: 0 Status: OK