Package: updateObject Version: 1.10.0 Command: /home/biocbuild/R/R/bin/R CMD check --install=check:updateObject.install-out.txt --library=/home/biocbuild/R/R/site-library --no-vignettes --timings updateObject_1.10.0.tar.gz StartedAt: 2025-02-04 12:01:19 -0000 (Tue, 04 Feb 2025) EndedAt: 2025-02-04 12:02:22 -0000 (Tue, 04 Feb 2025) EllapsedTime: 63.1 seconds RetCode: 0 Status: OK CheckDir: updateObject.Rcheck Warnings: 0