Package: vbmp Version: 1.74.0 Command: /Library/Frameworks/R.framework/Resources/bin/R CMD check --install=check:vbmp.install-out.txt --library=/Library/Frameworks/R.framework/Resources/library --no-vignettes --timings vbmp_1.74.0.tar.gz StartedAt: 2025-02-01 13:02:26 -0500 (Sat, 01 Feb 2025) EndedAt: 2025-02-01 13:02:54 -0500 (Sat, 01 Feb 2025) EllapsedTime: 27.9 seconds RetCode: 0 Status: OK CheckDir: vbmp.Rcheck Warnings: 0