Package: vbmp Version: 1.74.0 Command: /Library/Frameworks/R.framework/Resources/bin/R CMD build --keep-empty-dirs --no-resave-data vbmp StartedAt: 2025-02-03 23:08:10 -0500 (Mon, 03 Feb 2025) EndedAt: 2025-02-03 23:09:32 -0500 (Mon, 03 Feb 2025) EllapsedTime: 81.3 seconds RetCode: 0 Status: OK PackageFile: vbmp_1.74.0.tar.gz PackageFileSize: 1.762 MiB