Package: vbmp Version: 1.74.0 Command: /Library/Frameworks/R.framework/Resources/bin/R CMD INSTALL vbmp StartedAt: 2025-02-03 15:12:01 -0500 (Mon, 03 Feb 2025) EndedAt: 2025-02-03 15:12:18 -0500 (Mon, 03 Feb 2025) EllapsedTime: 16.5 seconds RetCode: 0 Status: OK