Package: vbmp Version: 1.74.0 Command: /home/biocbuild/bbs-3.20-bioc/R/bin/R CMD check --install=check:vbmp.install-out.txt --library=/home/biocbuild/bbs-3.20-bioc/R/site-library --timings vbmp_1.74.0.tar.gz StartedAt: 2025-02-04 03:31:08 -0500 (Tue, 04 Feb 2025) EndedAt: 2025-02-04 03:31:53 -0500 (Tue, 04 Feb 2025) EllapsedTime: 45.0 seconds RetCode: 0 Status: OK CheckDir: vbmp.Rcheck Warnings: 0