Package: vbmp Version: 1.74.0 Command: chmod a+r vbmp -R && F:\biocbuild\bbs-3.20-bioc\R\bin\R.exe CMD build --keep-empty-dirs --no-resave-data vbmp StartedAt: 2025-02-10 22:41:04 -0500 (Mon, 10 Feb 2025) EndedAt: 2025-02-10 22:41:59 -0500 (Mon, 10 Feb 2025) EllapsedTime: 54.5 seconds RetCode: 0 Status: OK PackageFile: vbmp_1.74.0.tar.gz PackageFileSize: 1.647 MiB