Package: vbmp Version: 1.74.0 Command: /home/biocbuild/R/R/bin/R CMD INSTALL vbmp StartedAt: 2025-02-03 20:21:05 -0000 (Mon, 03 Feb 2025) EndedAt: 2025-02-03 20:21:20 -0000 (Mon, 03 Feb 2025) EllapsedTime: 14.7 seconds RetCode: 0 Status: OK