Package: vidger Version: 1.26.0 Command: /Library/Frameworks/R.framework/Resources/bin/R CMD build --keep-empty-dirs --no-resave-data vidger StartedAt: 2025-02-03 23:10:01 -0500 (Mon, 03 Feb 2025) EndedAt: 2025-02-03 23:14:02 -0500 (Mon, 03 Feb 2025) EllapsedTime: 240.6 seconds RetCode: 0 Status: OK PackageFile: vidger_1.26.0.tar.gz PackageFileSize: 8.697 MiB