Package: vidger Version: 1.26.0 Command: rm -rf vidger.buildbin-libdir && mkdir vidger.buildbin-libdir && F:\biocbuild\bbs-3.20-bioc\R\bin\R.exe CMD INSTALL --build --library=vidger.buildbin-libdir vidger_1.26.0.tar.gz StartedAt: 2025-02-04 09:45:12 -0500 (Tue, 04 Feb 2025) EndedAt: 2025-02-04 09:45:54 -0500 (Tue, 04 Feb 2025) EllapsedTime: 42.0 seconds RetCode: 0 Status: OK PackageFile: vidger_1.26.0.zip PackageFileSize: 5.468 MiB