Package: vidger Version: 1.26.0 Command: chmod a+r vidger -R && F:\biocbuild\bbs-3.20-bioc\R\bin\R.exe CMD build --keep-empty-dirs --no-resave-data vidger StartedAt: 2025-02-03 22:46:51 -0500 (Mon, 03 Feb 2025) EndedAt: 2025-02-03 22:49:27 -0500 (Mon, 03 Feb 2025) EllapsedTime: 155.7 seconds RetCode: 0 Status: OK PackageFile: vidger_1.26.0.tar.gz PackageFileSize: 5.235 MiB