Package: vidger Version: 1.26.0 Command: /home/biocbuild/R/R/bin/R CMD INSTALL vidger StartedAt: 2025-02-03 20:56:13 -0000 (Mon, 03 Feb 2025) EndedAt: 2025-02-03 20:56:55 -0000 (Mon, 03 Feb 2025) EllapsedTime: 42.0 seconds RetCode: 0 Status: OK