Package: viper Version: 1.40.0 Command: /Library/Frameworks/R.framework/Resources/bin/R CMD build --keep-empty-dirs --no-resave-data viper StartedAt: 2025-02-04 10:25:33 -0500 (Tue, 04 Feb 2025) EndedAt: 2025-02-04 10:30:31 -0500 (Tue, 04 Feb 2025) EllapsedTime: 298.2 seconds RetCode: 0 Status: OK PackageFile: viper_1.40.0.tar.gz PackageFileSize: 503.4 KiB