Package: viper Version: 1.40.0 Command: /Library/Frameworks/R.framework/Resources/bin/R CMD INSTALL viper StartedAt: 2025-02-03 17:08:50 -0500 (Mon, 03 Feb 2025) EndedAt: 2025-02-03 17:09:05 -0500 (Mon, 03 Feb 2025) EllapsedTime: 15.1 seconds RetCode: 0 Status: OK