Package: viper Version: 1.40.0 Command: /Library/Frameworks/R.framework/Resources/bin/R CMD INSTALL viper StartedAt: 2025-02-10 16:09:43 -0500 (Mon, 10 Feb 2025) EndedAt: 2025-02-10 16:10:13 -0500 (Mon, 10 Feb 2025) EllapsedTime: 29.7 seconds RetCode: 0 Status: OK