Package: viper Version: 1.40.0 Command: /home/biocbuild/bbs-3.20-bioc/R/bin/R CMD build --keep-empty-dirs --no-resave-data --md5 viper StartedAt: 2025-02-10 19:38:52 -0500 (Mon, 10 Feb 2025) EndedAt: 2025-02-10 19:42:20 -0500 (Mon, 10 Feb 2025) EllapsedTime: 207.2 seconds RetCode: 0 Status: OK PackageFile: viper_1.40.0.tar.gz PackageFileSize: 505.2 KiB