Package: viper Version: 1.40.0 Command: rm -rf viper.buildbin-libdir && mkdir viper.buildbin-libdir && F:\biocbuild\bbs-3.20-bioc\R\bin\R.exe CMD INSTALL --build --library=viper.buildbin-libdir viper_1.40.0.tar.gz StartedAt: 2025-02-11 09:43:31 -0500 (Tue, 11 Feb 2025) EndedAt: 2025-02-11 09:44:01 -0500 (Tue, 11 Feb 2025) EllapsedTime: 30.3 seconds RetCode: 0 Status: OK PackageFile: viper_1.40.0.zip PackageFileSize: 575.7 KiB