Package: viper Version: 1.40.0 Command: chmod a+r viper -R && F:\biocbuild\bbs-3.20-bioc\R\bin\R.exe CMD build --keep-empty-dirs --no-resave-data viper StartedAt: 2025-02-10 22:42:07 -0500 (Mon, 10 Feb 2025) EndedAt: 2025-02-10 22:47:29 -0500 (Mon, 10 Feb 2025) EllapsedTime: 322.2 seconds RetCode: 0 Status: OK PackageFile: viper_1.40.0.tar.gz PackageFileSize: 314.1 KiB