Package: viper Version: 1.40.0 Command: /home/biocbuild/R/R/bin/R CMD build --keep-empty-dirs --no-resave-data viper StartedAt: 2025-02-04 03:49:31 -0000 (Tue, 04 Feb 2025) EndedAt: 2025-02-04 03:54:22 -0000 (Tue, 04 Feb 2025) EllapsedTime: 291.4 seconds RetCode: 0 Status: OK PackageFile: viper_1.40.0.tar.gz PackageFileSize: 492.8 KiB