Package: vsclust Version: 1.8.0 Command: /Library/Frameworks/R.framework/Resources/bin/R CMD check --install=check:vsclust.install-out.txt --library=/Library/Frameworks/R.framework/Resources/library --no-vignettes --timings vsclust_1.8.0.tar.gz StartedAt: 2025-02-05 14:07:36 -0500 (Wed, 05 Feb 2025) EndedAt: 2025-02-05 14:13:00 -0500 (Wed, 05 Feb 2025) EllapsedTime: 324.4 seconds RetCode: 0 Status: WARNINGS CheckDir: vsclust.Rcheck Warnings: 1