Package: vsclust Version: 1.8.0 Command: /Library/Frameworks/R.framework/Resources/bin/R CMD build --keep-empty-dirs --no-resave-data vsclust StartedAt: 2025-02-03 23:10:43 -0500 (Mon, 03 Feb 2025) EndedAt: 2025-02-03 23:15:36 -0500 (Mon, 03 Feb 2025) EllapsedTime: 292.4 seconds RetCode: 0 Status: OK PackageFile: vsclust_1.8.0.tar.gz PackageFileSize: 3.715 MiB