Package: vsclust Version: 1.8.0 Command: /Library/Frameworks/R.framework/Resources/bin/R CMD INSTALL vsclust StartedAt: 2025-02-10 15:52:07 -0500 (Mon, 10 Feb 2025) EndedAt: 2025-02-10 15:53:14 -0500 (Mon, 10 Feb 2025) EllapsedTime: 67.4 seconds RetCode: 0 Status: OK