Package: vsclust Version: 1.8.0 Command: /home/biocbuild/bbs-3.20-bioc/R/bin/R CMD check --install=check:vsclust.install-out.txt --library=/home/biocbuild/bbs-3.20-bioc/R/site-library --timings vsclust_1.8.0.tar.gz StartedAt: 2025-02-04 03:33:18 -0500 (Tue, 04 Feb 2025) EndedAt: 2025-02-04 03:39:22 -0500 (Tue, 04 Feb 2025) EllapsedTime: 363.4 seconds RetCode: 0 Status: WARNINGS CheckDir: vsclust.Rcheck Warnings: 1