Package: vsclust Version: 1.8.0 Command: chmod a+r vsclust -R && F:\biocbuild\bbs-3.20-bioc\R\bin\R.exe CMD build --keep-empty-dirs --no-resave-data vsclust StartedAt: 2025-01-30 22:30:09 -0500 (Thu, 30 Jan 2025) EndedAt: 2025-01-30 22:33:22 -0500 (Thu, 30 Jan 2025) EllapsedTime: 193.0 seconds RetCode: 0 Status: OK PackageFile: vsclust_1.8.0.tar.gz PackageFileSize: 1.836 MiB