Package: vsclust Version: 1.8.0 Command: /home/biocbuild/R/R/bin/R CMD check --install=check:vsclust.install-out.txt --library=/home/biocbuild/R/R/site-library --no-vignettes --timings vsclust_1.8.0.tar.gz StartedAt: 2025-01-31 11:27:20 -0000 (Fri, 31 Jan 2025) EndedAt: 2025-01-31 11:32:37 -0000 (Fri, 31 Jan 2025) EllapsedTime: 317.5 seconds RetCode: 0 Status: WARNINGS CheckDir: vsclust.Rcheck Warnings: 1