Package: vsn Version: 3.74.0 Command: /Library/Frameworks/R.framework/Resources/bin/R CMD INSTALL vsn StartedAt: 2025-02-03 15:28:23 -0500 (Mon, 03 Feb 2025) EndedAt: 2025-02-03 15:28:46 -0500 (Mon, 03 Feb 2025) EllapsedTime: 22.2 seconds RetCode: 0 Status: OK