Package: vsn Version: 3.74.0 Command: /home/biocbuild/bbs-3.20-bioc/R/bin/R CMD build --keep-empty-dirs --no-resave-data --md5 vsn StartedAt: 2025-02-03 19:47:07 -0500 (Mon, 03 Feb 2025) EndedAt: 2025-02-03 19:47:48 -0500 (Mon, 03 Feb 2025) EllapsedTime: 41.0 seconds RetCode: 0 Status: OK PackageFile: vsn_3.74.0.tar.gz PackageFileSize: 1.928 MiB