Package: vsn Version: 3.74.0 Command: rm -rf vsn.buildbin-libdir && mkdir vsn.buildbin-libdir && F:\biocbuild\bbs-3.20-bioc\R\bin\R.exe CMD INSTALL --build --library=vsn.buildbin-libdir vsn_3.74.0.tar.gz StartedAt: 2025-01-31 09:51:38 -0500 (Fri, 31 Jan 2025) EndedAt: 2025-01-31 09:52:13 -0500 (Fri, 31 Jan 2025) EllapsedTime: 34.3 seconds RetCode: 0 Status: OK PackageFile: vsn_3.74.0.zip PackageFileSize: 1.564 MiB