Package: vtpnet Version: 0.46.0 Command: /Library/Frameworks/R.framework/Resources/bin/R CMD INSTALL vtpnet StartedAt: 2025-02-03 17:33:57 -0500 (Mon, 03 Feb 2025) EndedAt: 2025-02-03 17:34:54 -0500 (Mon, 03 Feb 2025) EllapsedTime: 56.7 seconds RetCode: 0 Status: OK