Package: vtpnet Version: 0.46.0 Command: /Library/Frameworks/R.framework/Resources/bin/R CMD INSTALL vtpnet StartedAt: 2025-02-03 16:29:44 -0500 (Mon, 03 Feb 2025) EndedAt: 2025-02-03 16:31:22 -0500 (Mon, 03 Feb 2025) EllapsedTime: 98.0 seconds RetCode: 0 Status: OK