Package: vtpnet Version: 0.46.0 Command: /home/biocbuild/bbs-3.20-bioc/R/bin/R CMD build --keep-empty-dirs --no-resave-data --md5 vtpnet StartedAt: 2025-02-10 19:39:47 -0500 (Mon, 10 Feb 2025) EndedAt: 2025-02-10 19:41:08 -0500 (Mon, 10 Feb 2025) EllapsedTime: 81.1 seconds RetCode: 0 Status: OK PackageFile: vtpnet_0.46.0.tar.gz PackageFileSize: 20.23 MiB