Package: vtpnet Version: 0.46.0 Command: /home/biocbuild/bbs-3.20-bioc/R/bin/R CMD check --install=check:vtpnet.install-out.txt --library=/home/biocbuild/bbs-3.20-bioc/R/site-library --timings vtpnet_0.46.0.tar.gz StartedAt: 2025-02-11 03:24:39 -0500 (Tue, 11 Feb 2025) EndedAt: 2025-02-11 03:30:02 -0500 (Tue, 11 Feb 2025) EllapsedTime: 322.3 seconds RetCode: 0 Status: OK CheckDir: vtpnet.Rcheck Warnings: 0