Package: vtpnet Version: 0.46.0 Command: /home/biocbuild/bbs-3.20-bioc/R/bin/R CMD INSTALL vtpnet StartedAt: 2025-02-10 15:53:17 -0500 (Mon, 10 Feb 2025) EndedAt: 2025-02-10 15:54:05 -0500 (Mon, 10 Feb 2025) EllapsedTime: 48.2 seconds RetCode: 0 Status: OK