Package: vtpnet Version: 0.46.0 Command: chmod a+r vtpnet -R && F:\biocbuild\bbs-3.20-bioc\R\bin\R.exe CMD build --keep-empty-dirs --no-resave-data vtpnet StartedAt: 2025-02-03 22:48:02 -0500 (Mon, 03 Feb 2025) EndedAt: 2025-02-03 22:49:47 -0500 (Mon, 03 Feb 2025) EllapsedTime: 104.7 seconds RetCode: 0 Status: OK PackageFile: vtpnet_0.46.0.tar.gz PackageFileSize: 20.12 MiB