Package: vtpnet Version: 0.46.0 Command: F:\biocbuild\bbs-3.20-bioc\R\bin\R.exe CMD INSTALL vtpnet StartedAt: 2025-02-03 17:03:42 -0500 (Mon, 03 Feb 2025) EndedAt: 2025-02-03 17:04:32 -0500 (Mon, 03 Feb 2025) EllapsedTime: 49.9 seconds RetCode: 0 Status: OK