Package: waddR Version: 1.20.0 Command: /Library/Frameworks/R.framework/Resources/bin/R CMD build --keep-empty-dirs --no-resave-data waddR StartedAt: 2025-01-31 10:15:20 -0500 (Fri, 31 Jan 2025) EndedAt: 2025-01-31 10:17:11 -0500 (Fri, 31 Jan 2025) EllapsedTime: 111.6 seconds RetCode: 1 Status: ERROR PackageFile: None PackageFileSize: NA