Package: waddR Version: 1.20.0 Command: /Library/Frameworks/R.framework/Resources/bin/R CMD build --keep-empty-dirs --no-resave-data waddR StartedAt: 2025-01-30 23:42:37 -0500 (Thu, 30 Jan 2025) EndedAt: 2025-01-30 23:44:47 -0500 (Thu, 30 Jan 2025) EllapsedTime: 130.1 seconds RetCode: 1 Status: ERROR PackageFile: None PackageFileSize: NA