Package: waddR Version: 1.20.0 Command: /home/biocbuild/bbs-3.20-bioc/R/bin/R CMD build --keep-empty-dirs --no-resave-data --md5 waddR StartedAt: 2025-01-30 19:37:44 -0500 (Thu, 30 Jan 2025) EndedAt: 2025-01-30 19:39:26 -0500 (Thu, 30 Jan 2025) EllapsedTime: 101.1 seconds RetCode: 0 Status: OK PackageFile: waddR_1.20.0.tar.gz PackageFileSize: 153.9 KiB