Package: waddR Version: 1.20.0 Command: F:\biocbuild\bbs-3.20-bioc\R\bin\R.exe CMD INSTALL waddR StartedAt: 2025-01-30 16:03:23 -0500 (Thu, 30 Jan 2025) EndedAt: 2025-01-30 16:04:20 -0500 (Thu, 30 Jan 2025) EllapsedTime: 57.0 seconds RetCode: 0 Status: OK