Package: waddR Version: 1.20.0 Command: /home/biocbuild/R/R/bin/R CMD INSTALL waddR StartedAt: 2025-01-30 20:20:51 -0000 (Thu, 30 Jan 2025) EndedAt: 2025-01-30 20:21:52 -0000 (Thu, 30 Jan 2025) EllapsedTime: 61.4 seconds RetCode: 0 Status: OK