Package: weaver Version: 1.72.0 Command: /Library/Frameworks/R.framework/Resources/bin/R CMD build --keep-empty-dirs --no-resave-data weaver StartedAt: 2025-02-03 23:12:51 -0500 (Mon, 03 Feb 2025) EndedAt: 2025-02-03 23:13:05 -0500 (Mon, 03 Feb 2025) EllapsedTime: 14.4 seconds RetCode: 0 Status: OK PackageFile: weaver_1.72.0.tar.gz PackageFileSize: 231.1 KiB